BEGIN:VCALENDAR
VERSION:2.0
PRODID:-//www.dismasofvt.org//NONSGML kigkonsult.se iCalcreator 2.30.10//
CALSCALE:GREGORIAN
METHOD:PUBLISH
UID:a47f0289-be12-4eb6-9932-eb1f14a3bf62
X-WR-CALDESC:Link to event will be provided after registration.
X-WR-RELCALID:3b2ca83682d484a9a0b29a8c017f4903
X-WR-TIMEZONE:America/New_York
BEGIN:VTIMEZONE
TZID:America/New_York
BEGIN:STANDARD
TZNAME:EST
DTSTART:20211107T020000
TZOFFSETFROM:-0400
TZOFFSETTO:-0500
RDATE:20221106T020000
END:STANDARD
BEGIN:DAYLIGHT
TZNAME:EDT
DTSTART:20220313T020000
TZOFFSETFROM:-0500
TZOFFSETTO:-0400
RDATE:20230312T020000
END:DAYLIGHT
END:VTIMEZONE
BEGIN:VEVENT
UID:cab1833b-3cde-40ea-8c2c-75cd0e0ab239
DTSTAMP:20260420T143948Z
DESCRIPTION:Link to event will be provided after registration.
DTSTART;TZID=America/New_York:20220325T120000
DTEND;TZID=America/New_York:20220325T130000
LOCATION:Zoom Event
SUMMARY:Dismas Speaker Series: Cindy Shank
END:VEVENT
END:VCALENDAR
