BEGIN:VCALENDAR
VERSION:2.0
PRODID:-//www.dismasofvt.org//NONSGML kigkonsult.se iCalcreator 2.30.10//
CALSCALE:GREGORIAN
METHOD:PUBLISH
UID:ddb66d53-6783-4ce7-bba8-2920e451799d
X-WR-CALDESC:A committed group of volunteers\, the Rutland Council is charg
 ed with the stewardship of the Rutland Men's and Women's Dismas programs w
 ith houses in Rutland\, VT.  As part of this group you have a chance to co
 ntribute many different sub-committees.\n\n
X-WR-RELCALID:4e9f3d8e9371a109470abaa2f7a10e54
X-WR-TIMEZONE:America/Chicago
BEGIN:VTIMEZONE
TZID:America/Chicago
BEGIN:STANDARD
TZNAME:CST
DTSTART:20231105T020000
TZOFFSETFROM:-0500
TZOFFSETTO:-0600
RDATE:20241103T020000
RDATE:20251102T020000
END:STANDARD
BEGIN:DAYLIGHT
TZNAME:CDT
DTSTART:20240310T020000
TZOFFSETFROM:-0600
TZOFFSETTO:-0500
RDATE:20250309T020000
RDATE:20260308T020000
END:DAYLIGHT
END:VTIMEZONE
BEGIN:VEVENT
UID:5850135b-be46-4aac-873b-6ffe04a4c5ce
DTSTAMP:20260420T222938Z
DESCRIPTION:A committed group of volunteers\, the Rutland Council is charge
 d with the stewardship of the Rutland Men's and Women's Dismas programs wi
 th houses in Rutland\, VT.  As part of this group you have a chance to con
 tribute many different sub-committees.\n\n
DTSTART;TZID=America/Chicago:20241015T190000
DTEND;TZID=America/Chicago:20241015T203000
LOCATION:
SUMMARY:Rutland Council Meeting
END:VEVENT
END:VCALENDAR
