BEGIN:VCALENDAR
VERSION:2.0
PRODID:-//www.dismasofvt.org//NONSGML kigkonsult.se iCalcreator 2.30.10//
CALSCALE:GREGORIAN
METHOD:PUBLISH
UID:e84a6958-1122-46ac-b75a-71a439b333f8
X-WR-CALDESC:The online auction is open! Bidding closes at 9pm on Saturday\
 , April 18:\n\nhttps://events.readysetauction.com/dismasofvermont/rdh2026
X-WR-RELCALID:0d7da024957ee4edc7003757c99ff2d4
X-WR-TIMEZONE:America/New_York
BEGIN:VTIMEZONE
TZID:America/New_York
BEGIN:STANDARD
TZNAME:EST
DTSTART:20251102T020000
TZOFFSETFROM:-0400
TZOFFSETTO:-0500
RDATE:20261101T020000
END:STANDARD
BEGIN:DAYLIGHT
TZNAME:EDT
DTSTART:20260308T020000
TZOFFSETFROM:-0500
TZOFFSETTO:-0400
RDATE:20270314T020000
END:DAYLIGHT
END:VTIMEZONE
BEGIN:VEVENT
UID:784014d6-13f9-43e0-a309-0d037f54a4fe
DTSTAMP:20260424T003629Z
DESCRIPTION:The online auction is open! Bidding closes at 9pm on Saturday\,
  April 18:\n\nhttps://events.readysetauction.com/dismasofvermont/rdh2026
DTSTART;TZID=America/New_York:20260418T160000
DTEND;TZID=America/New_York:20260418T210000
LOCATION:
SUMMARY:The 34th Annual Dinner Auction to Benefit Rutland Dismas and Women'
 s Dismas Houses
END:VEVENT
END:VCALENDAR
